BEGIN:VCALENDAR
VERSION:2.0
PRODID:-//ChamberMaster//Event Calendar 2.0//EN
METHOD:PUBLISH
X-PUBLISHED-TTL:P3D
REFRESH-INTERVAL:P3D
CALSCALE:GREGORIAN
BEGIN:VEVENT
DTSTART:20160213T230000Z
DTEND:20160214T070000Z
X-MICROSOFT-CDO-ALLDAYEVENT:FALSE
SUMMARY:Latin Quarters Valentine's celebration
DESCRIPTION:Latin Jazz & More will be performing as a seven piece from 6-9pm\n\n At 9pm DJ Juan Pachanga takes over for a night filled with music.
X-ALT-DESC;FMTTYPE=text/html:<span style="color: rgb(20\, 24\, 35)\; font-family: helvetica\, arial\, sans-serif\; font-size: 14px\; line-height: 18.76px\;">Latin Jazz &amp\; More&nbsp\;will be performing as a seven piece from 6-9pm<br />\n&nbsp\;At 9pm DJ Juan Pachanga takes over for a night filled with music.</span>
LOCATION:Latin Quarters Address: 7335 Six Forks Rd\, Raleigh\, NC 27615 Phone:(919) 900-8333
UID:e.1552.204
SEQUENCE:3
DTSTAMP:20260421T114544Z
URL:https://mobile.nchispanicchamber.org/events/details/latin-quarters-valentine-s-celebration-02-13-2016-204
END:VEVENT

END:VCALENDAR
