BEGIN:VCALENDAR
VERSION:2.0
PRODID:-//ChamberMaster//Event Calendar 2.0//EN
METHOD:PUBLISH
X-PUBLISHED-TTL:P3D
REFRESH-INTERVAL:P3D
CALSCALE:GREGORIAN
BEGIN:VEVENT
DTSTART:20150415T160000Z
DTEND:20150415T180000Z
X-MICROSOFT-CDO-ALLDAYEVENT:FALSE
SUMMARY:Lunch and Learn
DESCRIPTION:Successfully Marketing Yourself \n\n& Your Business\n\nAprenda como promocionarse usted y su negocio\n\n\n\nWednesday\, April 15th\n\n12:00 pm\n\n\n\nNCHCC\n\n5800 Farigndon Place\n\nRaleigh\, NC 27609
X-ALT-DESC;FMTTYPE=text/html:<div style="text-align: center\;"><strong><span style="font-size: 10.5pt\;"><span style="font-family: trebuchet ms\,sans-serif\;"><span style="color: black\;">Successfully Marketing Yourself </span></span></span></strong><br />\n<strong><span style="font-size: 10.5pt\;"><span style="font-family: trebuchet ms\,sans-serif\;"><span style="color: black\;">&amp\; Your Business</span></span></span></strong><br />\n<strong><span style="font-size: 10.5pt\;"><span style="font-family: trebuchet ms\,sans-serif\;"><span style="color: black\;"><strong><span style="font-family: trebuchet ms\,sans-serif\;">Aprenda como promocionarse usted y su negocio</span></strong></span></span></span></strong><br />\n<br />\n<strong><span style="font-size: 10.5pt\;"><span style="font-family: trebuchet ms\,sans-serif\;"><span style="color: black\;">Wednesday\,&nbsp\;April 15th</span></span></span></strong><br />\n<span style="font-size: 10.5pt\;"><span style="font-family: trebuchet ms\,sans-serif\;"><span style="color: black\;">12:00 pm</span></span></span><br />\n<br />\n<strong><span style="font-size: 10.5pt\;"><span style="font-family: trebuchet ms\,sans-serif\;"><span style="color: black\;">NCHCC</span></span></span></strong><br />\n<span style="font-size: 10.5pt\;"><span style="font-family: trebuchet ms\,sans-serif\;"><span style="color: black\;">5800 Farigndon Place</span></span></span><br />\n<span style="font-size: 10.5pt\;"><span style="font-family: trebuchet ms\,sans-serif\;"><span style="color: black\;">Raleigh\, NC 27609</span></span></span></div>\n<br />\n&nbsp\;
LOCATION:NCHCC 5800 Farigndon Place Raleigh\, NC 27609
UID:e.1552.171
SEQUENCE:3
DTSTAMP:20260422T061253Z
URL:https://mobile.nchispanicchamber.org/events/details/lunch-and-learn-04-15-2015-171
END:VEVENT

END:VCALENDAR
