BEGIN:VCALENDAR
VERSION:2.0
PRODID:-//ChamberMaster//Event Calendar 2.0//EN
METHOD:PUBLISH
X-PUBLISHED-TTL:P3D
REFRESH-INTERVAL:P3D
CALSCALE:GREGORIAN
BEGIN:VEVENT
DTSTART:20150617T160000Z
DTEND:20150617T180000Z
X-MICROSOFT-CDO-ALLDAYEVENT:FALSE
SUMMARY:Lunch and Learn
DESCRIPTION:Lunch and Learn Series
X-ALT-DESC;FMTTYPE=text/html:<div style="text-align: center\;"><span style="font-size: 14px\;"><span style="font-family: lucida sans unicode\,sans-serif\;"><span style="color: black\;"><strong>Lunch and Learn Series&hellip\;</strong></span></span></span></div>\n<br />\n&nbsp\;
LOCATION:NCHCC 5800 Faringdon Place Raleigh\, NC 27609
UID:e.1552.152
SEQUENCE:3
DTSTAMP:20260422T024004Z
URL:https://mobile.nchispanicchamber.org/events/details/lunch-and-learn-06-17-2015-152
END:VEVENT

END:VCALENDAR
