BEGIN:VCALENDAR
VERSION:2.0
PRODID:-//ChamberMaster//Event Calendar 2.0//EN
METHOD:PUBLISH
X-PUBLISHED-TTL:P3D
REFRESH-INTERVAL:P3D
CALSCALE:GREGORIAN
BEGIN:VEVENT
DTSTART:20160308T230000Z
DTEND:20160309T010000Z
X-MICROSOFT-CDO-ALLDAYEVENT:FALSE
SUMMARY:Marketing / Mercadeo Seminar
DESCRIPTION:How to Market Your Business \n\nFocus on the developing an A-Z marketing plan from "raw materials to the retail customer's shopping cart". Understanding the tactics to make a small business' advertising presentations pay their own way and direct traffic to the business. Making the marketing plan an integral component within the business plan/model. How to survey - market research and plan an annual marketing program.\n\n\n\nC mo mercadear su Negocio: \n\nComo  desarrollar un plan de mercadeo  desde el comienzo hasta el momento de estrega del producto al cliente. Aprenda las  t cticas para hacer que sus presentaciones publicitarias generen el tr fico que su  empresa necesita. Hacer el plan de mercadeo es un componente integral en su plan de negocios que incluye encuestas y analisis de mercado anual.\n\n\n\n Registraciones:\n\nhttps://www.ncsbc.net/reg.aspx?mode=event&event=540360023
X-ALT-DESC;FMTTYPE=text/html:<strong>How to Market Your Business</strong>&nbsp\;<br />\nFocus on the developing an A-Z marketing plan from &quot\;raw materials to the retail customer&#39\;s shopping cart&quot\;. Understanding the tactics to make a small business&#39\; advertising presentations pay their own way and direct traffic to the business. Making the marketing plan an integral component within the business plan/model. How to survey - market research and plan an annual marketing program.<br />\n<br />\n<strong>C&oacute\;mo&nbsp\;mercadear&nbsp\;su Negocio:</strong>&nbsp\;<br />\nComo &nbsp\;desarrollar&nbsp\;un plan de mercadeo&nbsp\; desde&nbsp\;el comienzo&nbsp\;hasta el momento de estrega&nbsp\;del&nbsp\;producto&nbsp\;al cliente. Aprenda&nbsp\;las&nbsp\;&nbsp\;t&aacute\;cticas para hacer&nbsp\;que sus presentaciones&nbsp\;publicitarias&nbsp\;generen&nbsp\;el tr&aacute\;fico&nbsp\;que su&nbsp\;&nbsp\;empresa necesita. Hacer el plan de mercadeo es un componente integral en su plan de negocios que incluye&nbsp\;encuestas y analisis de mercado anual.<br />\n<br />\n&nbsp\;Registraciones:<br />\n<a href="https://www.ncsbc.net/reg.aspx?mode=event&amp\;event=540360023">https://www.ncsbc.net/reg.aspx?mode=event&amp\;event=540360023</a><br />\n&nbsp\;
LOCATION:NC Hispanic Chamber of Commerce 5800 Faringdon Place Raleigh\, NC 27609
UID:e.1552.205
SEQUENCE:3
DTSTAMP:20260421T104904Z
URL:https://mobile.nchispanicchamber.org/events/details/marketing-mercadeo-seminar-03-08-2016-205
END:VEVENT

END:VCALENDAR
