BEGIN:VCALENDAR
VERSION:2.0
PRODID:-//ChamberMaster//Event Calendar 2.0//EN
METHOD:PUBLISH
X-PUBLISHED-TTL:P3D
REFRESH-INTERVAL:P3D
CALSCALE:GREGORIAN
BEGIN:VEVENT
DTSTART:20131112T130000Z
DTEND:20131112T150000Z
X-MICROSOFT-CDO-ALLDAYEVENT:FALSE
SUMMARY:Mañana Informativa
DESCRIPTION:Las Redes Sociales y el Manejo de la Imagen en los Negocios\n\n	\n\n	Las Redes Sociales se han convertido en una parte integral de nuestra vida diaria y para los profesionales en todo el mundo es una herramienta esencial para negocios. En la actualidad\, las organizaciones no pueden funcionar sin prestar atenci n a lo que los consumidores est n diciendo acerca de sus marcas o negocios\; pero adem s es de suma importancia tener una presencia y una reputaci n positiva en las redes sociales de internet que los ayude a posicionarse dentro del mercado.
X-ALT-DESC;FMTTYPE=text/html:<div style="text-align: center">\n	<em><span style="font-size: medium"><strong><span style="font-family: lucida bright\, serif">Las Redes Sociales y el Manejo de la Imagen en los Negocios</span></strong></span></em><br />\n	<br />\n	<em><span style="font-size: 11pt"><span style="font-family: lucida bright\, serif">Las Redes Sociales se han convertido en una parte integral de nuestra vida diaria y para los profesionales en todo el mundo es una herramienta esencial para negocios. En la actualidad\, las organizaciones no pueden funcionar sin prestar atenci&oacute\;n a lo que los consumidores est&aacute\;n diciendo acerca de sus marcas o negocios\; pero adem&aacute\;s es de suma importancia tener una presencia y una reputaci&oacute\;n positiva en las redes sociales de internet que los ayude a posicionarse dentro del mercado</span></span><span style="font-size: 12pt"><span style="font-family: lucida bright\, serif"><span style="font-family: lucida bright">.</span></span></span></em></div>\n
LOCATION:NCHCC 5800 Faringdon Place Raleigh\, NC 27609
UID:e.1552.80
SEQUENCE:3
DTSTAMP:20260425T141358Z
URL:https://mobile.nchispanicchamber.org/events/details/ma&#241;ana-informativa-11-12-2013-80
END:VEVENT

END:VCALENDAR
