BEGIN:VCALENDAR
VERSION:2.0
PRODID:-//ChamberMaster//Event Calendar 2.0//EN
METHOD:PUBLISH
X-PUBLISHED-TTL:P3D
REFRESH-INTERVAL:P3D
CALSCALE:GREGORIAN
BEGIN:VEVENT
DTSTART:20130611T130000Z
DTEND:20130611T220000Z
X-MICROSOFT-CDO-ALLDAYEVENT:FALSE
SUMMARY:NC Hispanic Construction Conference & Brilliance Awards Luncheon
DESCRIPTION:
X-ALT-DESC;FMTTYPE=text/html:
LOCATION:Hilton Durham 3800 Hillsborough Road Durham\, NC 27705
UID:e.1552.64
SEQUENCE:3
DTSTAMP:20260425T223107Z
URL:https://mobile.nchispanicchamber.org/events/details/nc-hispanic-construction-conference-brilliance-awards-luncheon-06-11-2013-64
END:VEVENT

END:VCALENDAR
