BEGIN:VCALENDAR
VERSION:2.0
PRODID:-//ChamberMaster//Event Calendar 2.0//EN
METHOD:PUBLISH
X-PUBLISHED-TTL:P3D
REFRESH-INTERVAL:P3D
CALSCALE:GREGORIAN
BEGIN:VEVENT
DTSTART:20150319T120000Z
DTEND:20150319T140000Z
X-MICROSOFT-CDO-ALLDAYEVENT:FALSE
SUMMARY:NCHCC Annual Meeting
DESCRIPTION:NCHCC Annual Meeting \n\n\n\nThursday\, March 19th\n\n8:00 am\n\n\n\nNCHCC\n\n5800 Faringdon Place\n\nRaleigh\, NC 27609
X-ALT-DESC;FMTTYPE=text/html:<div style="text-align: center\;">\n<p align="center" style="margin: 0in 0in 0pt 30pt\; text-align: center\;"><br />\n<u><em><strong><span style="color: rgb(0\, 0\, 0)\;"><span style="font-family: &quot\;Trebuchet MS&quot\;\,sans-serif\; font-size: 13pt\;"><span style="font-size: 18px\;">NCHCC</span> Annual Meeting </span></span></strong></em></u><br />\n<br />\n<span style="color: rgb(0\, 0\, 0)\;"><span style="font-family: &quot\;Trebuchet MS&quot\;\,sans-serif\; font-size: 13pt\;">Thursday\, March 19th<br />\n8:00 am<br />\n<br />\nNCHCC<br />\n5800 Faringdon Place<br />\nRaleigh\, NC 27609</span></span></p>\n</div>\n
LOCATION:NCHCC 5800 Farigndon Place Raleigh\, NC 27609
UID:e.1552.144
SEQUENCE:3
DTSTAMP:20260424T085250Z
URL:https://mobile.nchispanicchamber.org/events/details/nchcc-annual-meeting-03-19-2015-144
END:VEVENT

END:VCALENDAR
