BEGIN:VCALENDAR
VERSION:2.0
PRODID:-//ChamberMaster//Event Calendar 2.0//EN
METHOD:PUBLISH
X-PUBLISHED-TTL:P3D
REFRESH-INTERVAL:P3D
CALSCALE:GREGORIAN
BEGIN:VEVENT
DTSTART:20140626T213000Z
DTEND:20140626T233000Z
X-MICROSOFT-CDO-ALLDAYEVENT:FALSE
SUMMARY:ONLY MEMBERS
DESCRIPTION:NETWORKING EVENT\n\n\n\n\n\nJune 26th\, 2014\n\n5:30 pm to 7:30 pm\n\n\n\nBrier Creek Country Club\n\n9400 Club Hill Dr.\n\nRaleigh\, NC 27617
X-ALT-DESC;FMTTYPE=text/html:<div style="text-align: center\;"><strong><span style="font-size: 16px\;">NETWORKING EVENT</span><br />\n<br />\n<br />\nJune 26th\, 2014<br />\n5:30 pm to 7:30 pm<br />\n<br />\nBrier Creek Country Club<br />\n9400 Club Hill Dr.<br />\nRaleigh\, NC 27617</strong><br />\n<br />\n&nbsp\;</div>\n
LOCATION:Brier Creek Country Club 9400 Club Hill Dr. Raleigh\, NC 27617
UID:e.1552.99
SEQUENCE:3
DTSTAMP:20260425T000058Z
URL:https://mobile.nchispanicchamber.org/events/details/only-members-06-26-2014-99
END:VEVENT

END:VCALENDAR
