BEGIN:VCALENDAR
VERSION:2.0
PRODID:-//ChamberMaster//Event Calendar 2.0//EN
METHOD:PUBLISH
X-PUBLISHED-TTL:P3D
REFRESH-INTERVAL:P3D
CALSCALE:GREGORIAN
BEGIN:VEVENT
DTSTART:20130918T040000Z
DTEND:20130918T173000Z
X-MICROSOFT-CDO-ALLDAYEVENT:FALSE
SUMMARY:Opening Celebration
DESCRIPTION:You are cordially invited to attend a private Opening Celebration of the first Latino owned Insurance Agency in the Triangle.\n\n	\n\n	 Antonio Vela Insurance Agency\n\n	\n\n	Come join Delicious Latino Food!\n\n	\n\n	Wednesday\, September 18\, 2013\n\n	12:00 pm\n\n	\n\n	121 Sherron Rd\, Suite 106\n\n	Durham\, NC 27703\n\n	\n\n	Info:   (919) 596-2700
X-ALT-DESC;FMTTYPE=text/html:<div style="text-align: center">\n	<span style="font-size: 16px"><span style="font-family: cambria">You are cordially invited to attend a private Opening Celebration of the first Latino owned Insurance Agency in the Triangle.</span><br />\n	<br />\n	<strong><span style="font-family: cambria">&nbsp\;Antonio Vela Insurance</span> Agency</strong><br />\n	<br />\n	<span style="font-family: cambria">Come join Delicious Latino Food!</span><br />\n	<br />\n	<span style="font-family: cambria">Wednesday\, September 18\, 2013</span><br />\n	<span style="font-family: cambria">12:00 pm</span><br />\n	<br />\n	<span style="font-family: cambria">121 Sherron Rd\, Suite 106</span><br />\n	<span style="font-family: cambria\, serif"><span style="font-family: cambria">Durham\, NC 27703<br />\n	<br />\n	Info:&nbsp\;&nbsp\; <font face="Cambria" size="3">(919) 596-2700</font></span></span></span></div>\n
LOCATION:121 Sherron Rd\, Suite 106 Durham\, NC 27703
UID:e.1552.76
SEQUENCE:3
DTSTAMP:20260425T180258Z
URL:https://mobile.nchispanicchamber.org/events/details/opening-celebration-09-18-2013-76
END:VEVENT

END:VCALENDAR
