BEGIN:VCALENDAR
VERSION:2.0
PRODID:-//ChamberMaster//Event Calendar 2.0//EN
METHOD:PUBLISH
X-PUBLISHED-TTL:P3D
REFRESH-INTERVAL:P3D
CALSCALE:GREGORIAN
BEGIN:VEVENT
DTSTART:20160120T223000Z
DTEND:20160121T000000Z
X-MICROSOFT-CDO-ALLDAYEVENT:FALSE
SUMMARY:Orientation to New Members - Orientación para Nuevos Miembros
DESCRIPTION:ONLY MEMBERS\n\nOrientation to New Members\n\nMake your Chamber Membership Work for You!\n\nWe encourage our new Chamber members to attend one of our quarterly New Member Orientation meetings.  This is your opportunity to meet the Chamber staff\, introduce your business\, and familiarize yourself with many of the benefits we offer\, plus get connected!\n\n \n\nWednesday\, January 20th\n\n 5:30 -7:00 p.m.\n\n5800 Faringdon Place\n\nRaleigh\, NC 27609\n\n \n\n  \n\nSOLO PARA MIEMBROS\n\nOrientaci n para Nuevos Miembros\n\nS quele provecho a su membresia de la C mara de Comercio! Invitamos a nuestros miembros a atender esta sesi n informativa\, donde podr  presentar su negocio al igual que familiarizarse con los beneficios que su c mara le ofrece.\n\n \n\nMiercoles\, 20 de enero\n\n5:30   7:00 p.m.\n\n5800 Faringdon Place\n\nRaleigh\, NC 27609
X-ALT-DESC;FMTTYPE=text/html:<div style="text-align: center\;"><br />\n<strong>ONLY MEMBERS</strong><br />\nOrientation to New Members<br />\nMake your Chamber Membership Work for You!<br />\nWe encourage our new Chamber members to attend one of our quarterly New Member Orientation meetings.&nbsp\; This is your opportunity to meet the Chamber staff\, introduce your business\, and familiarize yourself with many of the benefits we offer\, plus get connected!<br />\n&nbsp\;<br />\nWednesday\, January 20th<br />\n&nbsp\;5:30 -7:00 p.m.<br />\n5800 Faringdon Place<br />\nRaleigh\, NC 27609<br />\n&nbsp\;<br />\n&nbsp\;&nbsp\;<br />\n<strong>SOLO PARA MIEMBROS</strong><br />\nOrientaci&oacute\;n para Nuevos Miembros<br />\nS&aacute\;quele provecho a su membresia de la C&aacute\;mara de Comercio! Invitamos a nuestros miembros a atender esta sesi&oacute\;n informativa\, donde podr&aacute\; presentar su negocio al igual que familiarizarse con los beneficios que su c&aacute\;mara le ofrece.<br />\n&nbsp\;<br />\nMiercoles\, 20 de enero<br />\n5:30 &ndash\; 7:00 p.m.<br />\n5800 Faringdon Place<br />\nRaleigh\, NC 27609</div>\n
LOCATION:5800 Faringdon Place Raleigh\, NC 27609
UID:e.1552.201
SEQUENCE:3
DTSTAMP:20260421T132745Z
URL:https://mobile.nchispanicchamber.org/events/details/orientation-to-new-members-orientaci&#243;n-para-nuevos-miembros-01-20-2016-201
END:VEVENT

END:VCALENDAR
