BEGIN:VCALENDAR
VERSION:2.0
PRODID:-//ChamberMaster//Event Calendar 2.0//EN
METHOD:PUBLISH
X-PUBLISHED-TTL:P3D
REFRESH-INTERVAL:P3D
CALSCALE:GREGORIAN
BEGIN:VEVENT
DTSTART:20150928T120000Z
DTEND:20150928T210000Z
X-MICROSOFT-CDO-ALLDAYEVENT:FALSE
SUMMARY:ServSafe Managers Certification Clase en ESPANOL
DESCRIPTION:No pierda dos puntos en su pr xima inspecci n de el Departamento de Salud...\n\n\n\n\n\nThe class registration includes user friendly\, informative\, upbeat food safety & sanitation training\, a class packet (which includes informational handouts and various learning aids)\, and exam proctor.  Pens\, pencils\, and highlighters are also available for each student.\n\nClass Materials-  It is necessary that each student have a ServSafe Manager 6th Edition book (available in English\, Spanish\, Chinese\, & Korean) for the class and the official ServSafe scantron exam answer sheet for the exam. \n\n\n\nhttp://raise-the-grade.com/servsafe-classes/event/1210/Raleigh-9/28--SPANISH-ServSafe-Managers-Certification-Class-And/Or-Exam-Proctor
X-ALT-DESC;FMTTYPE=text/html:<span style="padding: 0in\; border: 1pt windowtext\; border-image: none\;"><span style="font-family: arial\;"><span style="font-size: 11pt\;">No pierda</span> dos puntos</span> en su pr&oacute\;xima</span> inspecci&oacute\;n de el Departamento de Salud...<br />\n<br />\n<br />\n<span style="background: none\; margin: 0px\; padding: 0px\; outline: 0px\; border: 0px currentColor\; border-image: none\; font-family: Arial\, sans-serif\; font-size: 11pt\; font-style: inherit\; font-weight: inherit\; vertical-align: baseline\;">The class registration includes user friendly\, informative\, upbeat food safety &amp\; sanitation training\, a class packet (which includes informational handouts and various learning aids)\, and exam proctor.&nbsp\; Pens\, pencils\, and highlighters are also available for each student.</span>\n\n<p style="margin: 0px 0px 10px\; line-height: 20.38px\; font-family: Helvetica\, Arial\, sans-serif\; font-size: 14.54px\;"><strong><span style="background: none\; margin: 0px\; padding: 0px\; outline: 0px\; border: 0px currentColor\; border-image: none\; color: green\; font-family: Arial\, sans-serif\; font-size: 11pt\; font-style: inherit\; font-weight: inherit\; vertical-align: baseline\;">Class Materials</span></strong><strong><span style="background: none\; margin: 0px\; padding: 0px\; outline: 0px\; border: 0px currentColor\; border-image: none\; font-family: Arial\, sans-serif\; font-size: 11pt\; font-style: inherit\; font-weight: inherit\; vertical-align: baseline\;">-&nbsp\;</span></strong><span style="background: none\; margin: 0px\; padding: 0px\; outline: 0px\; border: 0px currentColor\; border-image: none\; font-family: Arial\, sans-serif\; font-size: 11pt\; font-style: inherit\; font-weight: inherit\; vertical-align: baseline\;">&nbsp\;It is necessary that each student have a&nbsp\;<strong><span style="background: none\; margin: 0px\; padding: 0px\; outline: 0px\; border: 0px currentColor\; border-image: none\; font-family: inherit\; font-style: inherit\; font-weight: inherit\; text-decoration: underline\; vertical-align: baseline\;">ServSafe Manager 6th Edition</span></strong>&nbsp\;book (available in English\, Spanish\, Chinese\, &amp\; Korean) for the class and the official&nbsp\;<strong>ServSafe scantron exam answer sheet</strong>&nbsp\;for the exam. </span><br />\n<br />\n<a href="http://raise-the-grade.com/servsafe-classes/event/1210/Raleigh-9/28--SPANISH-ServSafe-Managers-Certification-Class-And/Or-Exam-Proctor">http://raise-the-grade.com/servsafe-classes/event/1210/Raleigh-9/28--SPANISH-ServSafe-Managers-Certification-Class-And/Or-Exam-Proctor</a><br />\n<br />\n&nbsp\;</p>\n
LOCATION:5800 Faringdon Place Raleigh\, NC 27615
UID:e.1552.189
SEQUENCE:3
DTSTAMP:20260421T205552Z
URL:https://mobile.nchispanicchamber.org/events/details/servsafe-managers-certification-clase-en-espanol-09-28-2015-189
END:VEVENT

END:VCALENDAR
