BEGIN:VCALENDAR
VERSION:2.0
PRODID:-//ChamberMaster//Event Calendar 2.0//EN
METHOD:PUBLISH
X-PUBLISHED-TTL:P3D
REFRESH-INTERVAL:P3D
CALSCALE:GREGORIAN
BEGIN:VEVENT
DTSTART:20160326T160000Z
DTEND:20160326T190000Z
X-MICROSOFT-CDO-ALLDAYEVENT:FALSE
SUMMARY:Soccer match between Rail Hawks and Toluca F.C
DESCRIPTION:Dear member\,\n\nThis is just a kind reminder of this Saturday's soccer game between Carolina Rail Hawks and Toluca F.C. As a member of our NC Hispanic Chamber of Commerce\, you are entitle to a discount. Just mention the promo code NCHCC.\n\n \n\nEstimado socio(a)\,\n\nEsta nota es solo para recordarle del partido de futbol a celebrarse este s bado Marzo 26\,2016 entre los Carolina Rail Hawks y el deportivo Toluca F.C  Como miembro de la c mara de comercio de Carolina del norte\, usted tiene un descuento especial. Solo mencione el c digo promocional NCHCC cuando haga su reservaci n.
X-ALT-DESC;FMTTYPE=text/html:Dear member\,<br />\nThis is just a kind reminder of this Saturday&rsquo\;s soccer game between Carolina Rail Hawks and Toluca F.C. As a member of our NC Hispanic Chamber of Commerce\, you are entitle to a discount. Just mention the promo code NCHCC.<br />\n&nbsp\;<br />\nEstimado socio(a)\,<br />\nEsta nota es solo para recordarle del partido de futbol a celebrarse este s&aacute\;bado Marzo 26\,2016 entre los Carolina Rail Hawks y el deportivo Toluca F.C &nbsp\;Como miembro de la c&aacute\;mara de comercio de Carolina del norte\, usted tiene un descuento especial. Solo mencione el c&oacute\;digo promocional NCHCC cuando haga su reservaci&oacute\;n.
LOCATION:WakeMed Soccer Park 201 Soccer Park Drive Cary\, NC 27511
UID:e.1552.225
SEQUENCE:3
DTSTAMP:20260421T100038Z
URL:https://mobile.nchispanicchamber.org/events/details/soccer-match-between-rail-hawks-and-toluca-f-c-03-26-2016-225
END:VEVENT

END:VCALENDAR
