BEGIN:VCALENDAR
VERSION:2.0
PRODID:-//ChamberMaster//Event Calendar 2.0//EN
METHOD:PUBLISH
X-PUBLISHED-TTL:P3D
REFRESH-INTERVAL:P3D
CALSCALE:GREGORIAN
BEGIN:VEVENT
DTSTART:20130915T160000Z
DTEND:20130915T210000Z
X-MICROSOFT-CDO-ALLDAYEVENT:FALSE
SUMMARY:Uni Rumba 2013
DESCRIPTION:Para m s informaci n llamar al\n\n	 919-790-6145
X-ALT-DESC;FMTTYPE=text/html:<p class="MsoNormal" style="text-align: center\; margin: 0in 0in 0pt">\n	<br />\n	<br />\n	<span style="font-size: 18px"><span lang="ES-CO" style="color: #1f497d\; mso-ansi-language: ES-CO"><font face="Calibri">Para m&aacute\;s informaci&oacute\;n llamar al<br />\n	&nbsp\;919-790-6145</font></span></span></p>\n
LOCATION:Villa Latina 421 Chapanoke Rd. Raleigh
UID:e.1552.73
SEQUENCE:3
DTSTAMP:20260425T175627Z
URL:https://mobile.nchispanicchamber.org/events/details/uni-rumba-2013-09-15-2013-73
END:VEVENT

END:VCALENDAR
