BEGIN:VCALENDAR
VERSION:2.0
PRODID:-//ChamberMaster//Event Calendar 2.0//EN
METHOD:PUBLISH
X-PUBLISHED-TTL:P3D
REFRESH-INTERVAL:P3D
CALSCALE:GREGORIAN
BEGIN:VEVENT
DTSTART:20130709T123000Z
DTEND:20130709T150000Z
X-MICROSOFT-CDO-ALLDAYEVENT:FALSE
SUMMARY:What are the requirements needed to do business with the City of Raleigh
DESCRIPTION:What are the requirements needed to do business with the City of Raleigh\n\n		   Cu les son los requisitos necesarios para hacer negocios con la Ciudad de Raleigh?\n	Click here to edit...
X-ALT-DESC;FMTTYPE=text/html:<div style="color: gray">\n	<p align="center" style="text-align: center\; margin: 0in 0in 0pt">\n		<strong><span style="font-family: 'Trebuchet MS'\, 'sans-serif'\; color: black\; font-size: 10.5pt">What are the requirements needed to do business with the City of Raleigh</span></strong><br />\n		<span style="font-family: 'Trebuchet MS'\, 'sans-serif'\; color: black\; font-size: 10.5pt"><em><span style="font-family: 'Trebuchet MS'\, 'sans-serif'">&nbsp\; </span></em></span><em><span style="font-family: 'Trebuchet MS'\, 'sans-serif'\; color: black\; font-size: 8.5pt">&iquest\;</span></em><em><span style="font-family: 'Trebuchet MS'\, 'sans-serif'\; color: black\; font-size: 10pt">Cu&aacute\;les son los requisitos necesarios para hacer negocios con la Ciudad de Raleigh?</span></em><span style="font-family: 'Trebuchet MS'\, 'sans-serif'\; color: black\; font-size: 8.5pt"><o:p></o:p></span></p>\n	Click here to edit...</div>\n
LOCATION:5800 Faringdon Place Raleigh\, NC 27609
UID:e.1552.66
SEQUENCE:3
DTSTAMP:20260425T204306Z
URL:https://mobile.nchispanicchamber.org/events/details/what-are-the-requirements-needed-to-do-business-with-the-city-of-raleigh-07-09-2013-66
END:VEVENT

END:VCALENDAR
