BEGIN:VCALENDAR
VERSION:2.0
PRODID:-//ChamberMaster//Event Calendar 2.0//EN
METHOD:PUBLISH
X-PUBLISHED-TTL:P3D
REFRESH-INTERVAL:P3D
CALSCALE:GREGORIAN
BEGIN:VEVENT
DTSTART:20130423T123000Z
DTEND:20130424T023000Z
X-MICROSOFT-CDO-ALLDAYEVENT:FALSE
SUMMARY:Ya es hora ¡CIUDADANIA!
DESCRIPTION:Citizenship Information Session\n\nBenefits and requirements to obtain U. S. Citizenship\n\nLearn what documents are needed to apply\n\nParticipate in a USCIS led Citizenship Mock Interview\n\nRegister for a U.S. Citizenship application assistance event\n\nInformation on citizenship classes & study materials\n\n\n\nForo Informativo sobre Ciudadan a\n\nBeneficios de obtener la ciudadan a Estadounidense\n\nRequisitos para obtener la ciudadan a Estadounidense\n\nDocumentaci n necesaria para solicitud\n\nSimulacro de la entrevista para la ciudadan a liderado por USCIS\n\nInscripci n para recibir ayuda\n\nInformaci n sobre clases de ciudadania y materiales de estudios\n\n\n\n\n\nFor more information visit   /  Para m s informaci n visite\n\n                                  www.yaeshora.info\n\n          or call / o llame al  888-839-8682  /  919-443-5488
X-ALT-DESC;FMTTYPE=text/html:<strong><em>Citizenship Information Session</em></strong><br />\nBenefits and requirements to obtain U. S. Citizenship<br />\nLearn what documents&nbsp\;are needed to apply<br />\nParticipate in a USCIS led Citizenship Mock Interview<br />\nRegister for a U.S. Citizenship application assistance event<br />\nInformation on citizenship classes &amp\; study materials<br />\n<br />\n<em><strong>Foro Informativo sobre Ciudadan&iacute\;a</strong></em><br />\nBeneficios de obtener la ciudadan&iacute\;a Estadounidense<br />\nRequisitos para obtener la ciudadan&iacute\;a Estadounidense<br />\nDocumentaci&oacute\;n necesaria para solicitud<br />\nSimulacro de la entrevista para la ciudadan&iacute\;a liderado por USCIS<br />\nInscripci&oacute\;n para recibir ayuda<br />\nInformaci&oacute\;n sobre clases de ciudadania y materiales de estudios<br />\n<br />\n<br />\nFor more information visit&nbsp\;&nbsp\; /&nbsp\; Para m&aacute\;s informaci&oacute\;n visite<br />\n&nbsp\;&nbsp\;&nbsp\;&nbsp\;&nbsp\;&nbsp\;&nbsp\;&nbsp\;&nbsp\;&nbsp\;&nbsp\;&nbsp\;&nbsp\;&nbsp\;&nbsp\;&nbsp\;&nbsp\;&nbsp\;&nbsp\;&nbsp\;&nbsp\;&nbsp\;&nbsp\;&nbsp\;&nbsp\;&nbsp\;&nbsp\;&nbsp\;&nbsp\;&nbsp\;&nbsp\;&nbsp\;&nbsp\; <a href="http://www.yaeshora.cinfo">www.yaeshora.info</a><br />\n&nbsp\;&nbsp\;&nbsp\;&nbsp\;&nbsp\;&nbsp\;&nbsp\;&nbsp\;&nbsp\; or call / o llame al&nbsp\; 888-839-8682&nbsp\; /&nbsp\; 919-443-5488
LOCATION:NC Hispanic Chamber of Commerce Camara de Comercio Hispana 5800 Faringdon Place\, Raleigh NC 27609
UID:e.1552.51
SEQUENCE:3
DTSTAMP:20260426T024906Z
URL:https://mobile.nchispanicchamber.org/events/details/ya-es-hora-ciudadania-04-23-2013-51
END:VEVENT

END:VCALENDAR
